BEGIN:VCALENDAR
VERSION:2.0
PRODID:-//Pilbara Health Professional Network - ECPv6.15.20//NONSGML v1.0//EN
CALSCALE:GREGORIAN
METHOD:PUBLISH
X-WR-CALNAME:Pilbara Health Professional Network
X-ORIGINAL-URL:https://www.phpn.com.au
X-WR-CALDESC:Events for Pilbara Health Professional Network
REFRESH-INTERVAL;VALUE=DURATION:PT1H
X-Robots-Tag:noindex
X-PUBLISHED-TTL:PT1H
BEGIN:VTIMEZONE
TZID:Australia/Perth
BEGIN:STANDARD
TZOFFSETFROM:+0800
TZOFFSETTO:+0800
TZNAME:AWST
DTSTART:20220101T000000
END:STANDARD
END:VTIMEZONE
BEGIN:VEVENT
DTSTART;TZID=Australia/Perth:20250221T173000
DTEND;TZID=Australia/Perth:20250221T193000
DTSTAMP:20260424T134955
CREATED:20241210T045317Z
LAST-MODIFIED:20241210T045527Z
UID:10005285-1740159000-1740166200@www.phpn.com.au
SUMMARY:PHPN Hedland Welcome to 2025 Sundowner
DESCRIPTION:The Pilbara Health Professionals Network (PHPN) would like to invite you and your family to come along and meet our health professionals who have recently moved to the region\, as well as reconnect with colleagues you may not have seen for a while. \nThis event is FREE for members of the Pilbara Health Professionals Network – membership is free. \nWHEN: Friday 21 February 2025 \nTIME: 5.30pm-7.30pm \nWHERE: The Esplanade Hotel – 2-4 Anderson Street\, Port Hedland \nLight refreshments provided. \nREGISTRATIONS ARE ESSENTIAL – Register HERE.
URL:https://www.phpn.com.au/event/phpn-hedland-welcome-to-2025-sundowner/
LOCATION:The Esplanade Hotel Port Hedland\, 2 Anderson St\, Port Hedland\, WA\, 6714\, Australia
CATEGORIES:Health
ATTACH;FMTTYPE=image/png:https://www.phpn.com.au/wp-content/uploads/2024/12/PHPN-FE-430px_2025_Welcome-to-2025-Hedland.png
ORGANIZER;CN="Pilbara Health Professionals Network":MAILTO:alisha.small@phpn.com.au
END:VEVENT
BEGIN:VEVENT
DTSTART;TZID=Australia/Perth:20240224T173000
DTEND;TZID=Australia/Perth:20240224T193000
DTSTAMP:20260424T134955
CREATED:20231026T063842Z
LAST-MODIFIED:20240222T032305Z
UID:10004866-1708795800-1708803000@www.phpn.com.au
SUMMARY:POSTPONED - PHPN Hedland Welcome to 2024 Social Networking event | Port Hedland
DESCRIPTION:**Due to the current weather warnings in place for West Pilbara between Friday 23 February – Saturday 24 February 2024\, this event has been postponed. We will update you with our new date soon!** \nThe Pilbara Health Professionals Network (PHPN) would like to invite you and your family to come along and meet our health professionals who have recently moved to the region\, as well as reconnect with colleagues you may not have seen for a while. \nWhen: Saturday 24 February 2024\nTime: 5.30pm-7.30pm\nVenue: The Esplanade Hotel\, 2-4 Anderson Street\, Port Hedland \nLimited drinks and canapés provided | Limited places available | Register HERE. \nThis event is FREE for members of the Pilbara Health Professionals Network – Visit the PHPN website to join as a member (membership is free). For more information about this event\, please email PHPN Regional Program Officer Alisha Small at contact@phpn.com.au
URL:https://www.phpn.com.au/event/phpn-hedland-welcome-to-2024-social-networking-event-port-hedland/
LOCATION:The Esplanade Hotel Port Hedland\, 2 Anderson St\, Port Hedland\, WA\, 6714\, Australia
CATEGORIES:Health
ATTACH;FMTTYPE=image/png:https://www.phpn.com.au/wp-content/uploads/2023/10/PHPN_Hedland_Welcome2024-24Feb_HPN_HOME-EVENT_PAGE_SCROLLING_IMAGE_836x548px.png
END:VEVENT
BEGIN:VEVENT
DTSTART;TZID=Australia/Perth:20231103T173000
DTEND;TZID=Australia/Perth:20231103T193000
DTSTAMP:20260424T134955
CREATED:20231010T194312Z
LAST-MODIFIED:20231010T194312Z
UID:10004300-1699032600-1699039800@www.phpn.com.au
SUMMARY:Young Professionals\, Mix & Mingle | Hedland
DESCRIPTION:Join the Hedland Young Professionals Network and the Port Hedland Chamber of Commerce and hear from 3 of Hedland’s Awarding wining Business Owners. \n\nBrad Holder\, Managing Director of PCC Productions – Audio Visual Hire was recently crowned Hedland Best Overall Business 2023.\nLee Ross\, Owner and Pharmacist from Pharmacy 777 Port Hedland\, recently awarded Hedland Business Leader of the Year 2023.\nByron Klein\, Owner and Optometriist of Hedland Eye Care was awarded the Best Business with the Most Innovative Practice 2023.\n\nJoin us for sundowner drinks\, delicious finger food\, and networking opportunities. Please RSVP via the provided link\, as spots are limited. Everyone is welcome! \nRSVP Here.
URL:https://www.phpn.com.au/event/young-professionals-mix-mingle-hedland/
LOCATION:The Esplanade Hotel Port Hedland\, 2 Anderson St\, Port Hedland\, WA\, 6714\, Australia
CATEGORIES:Health
ATTACH;FMTTYPE=image/png:https://www.phpn.com.au/wp-content/uploads/2023/10/Capture-2.png
END:VEVENT
END:VCALENDAR