BEGIN:VCALENDAR
VERSION:2.0
PRODID:-//Pilbara Health Professional Network - ECPv6.15.20//NONSGML v1.0//EN
CALSCALE:GREGORIAN
METHOD:PUBLISH
X-WR-CALNAME:Pilbara Health Professional Network
X-ORIGINAL-URL:https://www.phpn.com.au
X-WR-CALDESC:Events for Pilbara Health Professional Network
REFRESH-INTERVAL;VALUE=DURATION:PT1H
X-Robots-Tag:noindex
X-PUBLISHED-TTL:PT1H
BEGIN:VTIMEZONE
TZID:Australia/Perth
BEGIN:STANDARD
TZOFFSETFROM:+0800
TZOFFSETTO:+0800
TZNAME:AWST
DTSTART:20220101T000000
END:STANDARD
END:VTIMEZONE
BEGIN:VEVENT
DTSTART;VALUE=DATE:20240810
DTEND;VALUE=DATE:20240812
DTSTAMP:20260424T063721
CREATED:20240220T083810Z
LAST-MODIFIED:20240220T083810Z
UID:10004890-1723248000-1723420799@www.phpn.com.au
SUMMARY:Aboriginal Health Conference 2024 | Perth
DESCRIPTION:The Aboriginal Health Conference 2024 will provide an opportunity to come together and learn from each other. Through presentations\, panel sessions\, case study discussions and workshops we will provide an engaging and informative conference program for delegates. The 2024 theme\, “Circling the Fire: Connecting\, Celebrating\, and Committing to Aboriginal Health\,” embodies the spirit of unity\, celebration\, and dedication to improving Indigenous health outcomes. This theme aligns seamlessly with the NAIDOC theme for 2024\, ‘Keep the Fire Burning! Blak\, Loud and Proud\,’ reinforcing our commitment to empowering Aboriginal communities. \n\nThe conference program will have five streams\, providing comprehensive insights into crucial aspects of Aboriginal health: \n\nChronic disease\nSexual health\nCulturally safe practice\nSocial and emotional wellbeing\nHealth across the life course\n\nIn acknowledgment of the UN’s Day of the World’s Indigenous Peoples\, celebrated annually on August 9th\, our conference serves as a platform to spread the United Nations’ message on the protection and promotion of the rights of Indigenous peoples. Join us in honouring this significant day and contribute to the ongoing dialogue on Indigenous rights.\nVisit the conference website for more information and to register. \nFor any further enquiries please email the events team at ahc@ruralhealthwest.com.au 
URL:https://www.phpn.com.au/event/aboriginal-health-conference-2024-perth/
LOCATION:The Esplanade Hotel by Rydges\, 46-54 Marine Terrace\, Fremantle\, Western Australia\, 6160
CATEGORIES:Health
END:VEVENT
BEGIN:VEVENT
DTSTART;TZID=Australia/Perth:20240809T083000
DTEND;TZID=Australia/Perth:20240809T140000
DTSTAMP:20260424T063721
CREATED:20240618T222925Z
LAST-MODIFIED:20240618T223223Z
UID:10004969-1723192200-1723212000@www.phpn.com.au
SUMMARY:
DESCRIPTION:Building on the success of previous WA Ear and Hearing Health Forums\, we invite health professionals to join us for this two-day event to: \n\n\nHear insights from local planning forums and providers on effective collaborations.\nExplore intersectoral partnerships and initiatives aimed at enhancing ear and hearing health outcomes.\nLearn from leading WA researchers driving advancements in ear and hearing health.\nParticipate in hands-on interactive sessions to enhance your skills and stay updated on current guidelines and protocols.\nConnect and network with fellow health professionals and providers dedicated to mitigating the impact of ear diseases.\n\nJoin us for this education and upskilling opportunity to advance ear and hearing health in WA! \n\n\nForum details \nDate: Thursday 8 and Friday 9 August 2024 \nTime: Thursday: 8.30am – 5.00pm\nFriday: 8.30am – 2.00pm \nVenue: The Esplanade Hotel by Rydges\, Fremantle \n\nThis forum has been developed in collaboration with the WA Child Ear Health Strategy and the Aboriginal Health Council of WA (AHCWA). \n  \n\nThe WA Ear and Hearing Health Forum 2024 is made possible through funding from the Ear Health Coordination Program\, which is funded by the Australian Government Department of Health and Aged Care. \nThe Aboriginal Health Council of WA will be hosting a members only Ear Health Forum on Wednesday 7 August 2024.  Please see the Aboriginal Community Controlled Health Services (ACCHS) Ear Health Forum tab for further information.
URL:https://www.phpn.com.au/event/13077/2024-08-09/
LOCATION:The Esplanade Hotel by Rydges\, 46-54 Marine Terrace\, Fremantle\, Western Australia\, 6160
CATEGORIES:Health
ATTACH;FMTTYPE=image/png:https://www.phpn.com.au/wp-content/uploads/2024/06/WAEHHF2024_FB_event_image_430x225px_F1.png
END:VEVENT
BEGIN:VEVENT
DTSTART;TZID=Australia/Perth:20240808T083000
DTEND;TZID=Australia/Perth:20240808T170000
DTSTAMP:20260424T063721
CREATED:20240618T222925Z
LAST-MODIFIED:20240618T223223Z
UID:10004968-1723105800-1723136400@www.phpn.com.au
SUMMARY:
DESCRIPTION:Building on the success of previous WA Ear and Hearing Health Forums\, we invite health professionals to join us for this two-day event to: \n\n\nHear insights from local planning forums and providers on effective collaborations.\nExplore intersectoral partnerships and initiatives aimed at enhancing ear and hearing health outcomes.\nLearn from leading WA researchers driving advancements in ear and hearing health.\nParticipate in hands-on interactive sessions to enhance your skills and stay updated on current guidelines and protocols.\nConnect and network with fellow health professionals and providers dedicated to mitigating the impact of ear diseases.\n\nJoin us for this education and upskilling opportunity to advance ear and hearing health in WA! \n\n\nForum details \nDate: Thursday 8 and Friday 9 August 2024 \nTime: Thursday: 8.30am – 5.00pm\nFriday: 8.30am – 2.00pm \nVenue: The Esplanade Hotel by Rydges\, Fremantle \n\nThis forum has been developed in collaboration with the WA Child Ear Health Strategy and the Aboriginal Health Council of WA (AHCWA). \n  \n\nThe WA Ear and Hearing Health Forum 2024 is made possible through funding from the Ear Health Coordination Program\, which is funded by the Australian Government Department of Health and Aged Care. \nThe Aboriginal Health Council of WA will be hosting a members only Ear Health Forum on Wednesday 7 August 2024.  Please see the Aboriginal Community Controlled Health Services (ACCHS) Ear Health Forum tab for further information.
URL:https://www.phpn.com.au/event/13077/2024-08-08/
LOCATION:The Esplanade Hotel by Rydges\, 46-54 Marine Terrace\, Fremantle\, Western Australia\, 6160
CATEGORIES:Health
ATTACH;FMTTYPE=image/png:https://www.phpn.com.au/wp-content/uploads/2024/06/WAEHHF2024_FB_event_image_430x225px_F1.png
END:VEVENT
BEGIN:VEVENT
DTSTART;TZID=Australia/Perth:20240618T080000
DTEND;TZID=Australia/Perth:20240618T170000
DTSTAMP:20260424T063721
CREATED:20240306T021045Z
LAST-MODIFIED:20240306T021045Z
UID:10004907-1718697600-1718730000@www.phpn.com.au
SUMMARY:Save the date - 2024 WA Aboriginal Eye Health Forum | Freemantle
DESCRIPTION:Rural Health West is delighted to be hosting the inaugural WA Aboriginal Eye Health Forum on 18 June 2024. \nThis one-day\, pilot education and upskilling event will provide health professionals working in WA Aboriginal eye health and associated fields\, with the opportunity to connect with peers and learn about current initiatives and service delivery models working to improve Aboriginal eye health outcomes across the nation and state. \nWho should attend:  \n\nAboriginal health workers and practitioners\nNurses\nOptometrists\nMedical specialists\nAdministrators and coordinators\nResearchers\n\nThis Forum has been developed in partnership with the WA Aboriginal Health Advisory Forum \nIf you would like to register your interest to attend or present at the Forum please contact the Regional Services team at outreach@ruralhw.com.au
URL:https://www.phpn.com.au/event/save-the-date-2024-wa-aboriginal-eye-health-forum-freemantle/
LOCATION:The Esplanade Hotel by Rydges\, 46-54 Marine Terrace\, Fremantle\, Western Australia\, 6160
CATEGORIES:Health
END:VEVENT
BEGIN:VEVENT
DTSTART;TZID=Australia/Perth:20231116T080000
DTEND;TZID=Australia/Perth:20231117T140000
DTSTAMP:20260424T063721
CREATED:20230906T000819Z
LAST-MODIFIED:20231109T093841Z
UID:10004839-1700121600-1700229600@www.phpn.com.au
SUMMARY:2023 WA Ear and Hearing Health Forum | Freemantle
DESCRIPTION:Registrations for the 2023 WA Ear and Hearing Health Forum are now open!\nHosted by Rural Health West\, in collaboration with the Aboriginal Health Council of WA and the WA Child Ear Health Strategy\, the two day Forum will focus on regional ear health initiatives\, technologies and research in ear and hearing health through interactive discussions and practical upskilling. \n Date: Thursday 16 and Friday 17 November 2023 \nTime: Thursday: 8.00am – 5.00pm and Friday: 8.00am – 1.30pm \nVenue: The Esplanade Hotel by Rydges\, Fremantle \nWho should attend: clinical practitioners\, Aboriginal health workers and practitioners\, audiologists\, ear\, nose and throat surgeons\, ear health coordinators\, primary health care service providers and researchers. \nPlease visit the website to view further information about the Forum and to register. \nThe Forum will coincide with the Rural Health West Annual Aboriginal Health Conference. Travel support may be supported for eligible delegates. \nIf you have questions regarding the Forum please contact the Regional Services team on 08 6389 4500 or via email.
URL:https://www.phpn.com.au/event/2023-wa-ear-and-hearing-health-forum-freemantle/
LOCATION:The Esplanade Hotel by Rydges\, 46-54 Marine Terrace\, Fremantle\, Western Australia\, 6160
CATEGORIES:Health
ATTACH;FMTTYPE=image/png:https://www.phpn.com.au/wp-content/uploads/2023/09/WAEHHF-2023-HPN-836px.png
END:VEVENT
END:VCALENDAR