BEGIN:VCALENDAR
VERSION:2.0
PRODID:-//Pilbara Health Professional Network - ECPv6.15.20//NONSGML v1.0//EN
CALSCALE:GREGORIAN
METHOD:PUBLISH
X-WR-CALNAME:Pilbara Health Professional Network
X-ORIGINAL-URL:https://www.phpn.com.au
X-WR-CALDESC:Events for Pilbara Health Professional Network
REFRESH-INTERVAL;VALUE=DURATION:PT1H
X-Robots-Tag:noindex
X-PUBLISHED-TTL:PT1H
BEGIN:VTIMEZONE
TZID:Australia/Perth
BEGIN:STANDARD
TZOFFSETFROM:+0800
TZOFFSETTO:+0800
TZNAME:AWST
DTSTART:20200101T000000
END:STANDARD
END:VTIMEZONE
BEGIN:VEVENT
DTSTART;TZID=Australia/Perth:20211022T170000
DTEND;TZID=Australia/Perth:20211022T193000
DTSTAMP:20260423T210823
CREATED:20210929T030836Z
LAST-MODIFIED:20210929T030836Z
UID:10004291-1634922000-1634931000@www.phpn.com.au
SUMMARY:PHPN Wickham Sundowner
DESCRIPTION:Come and network with your colleagues at this free family friendly event for health professionals\, hosted by the Pilbara Health Professionals Network.\nFor more information and to confirm\, email:alisha.small@phpn.com.au
URL:https://www.phpn.com.au/event/phpn-wickham-sundowner/
LOCATION:Rambla Bar & Bistro\, Carse Street\, Wickham\, WA\, Australia
CATEGORIES:Health
ATTACH;FMTTYPE=image/png:https://www.phpn.com.au/wp-content/uploads/2021/09/PHPN_Wickham_Sundowner_FB_event_image_430x225px_NewDate.png
ORGANIZER;CN="Pilbara Health Professionals Network":MAILTO:alisha.small@phpn.com.au
END:VEVENT
END:VCALENDAR