BEGIN:VCALENDAR
VERSION:2.0
PRODID:-//Pilbara Health Professional Network - ECPv6.15.20//NONSGML v1.0//EN
CALSCALE:GREGORIAN
METHOD:PUBLISH
X-ORIGINAL-URL:https://www.phpn.com.au
X-WR-CALDESC:Events for Pilbara Health Professional Network
REFRESH-INTERVAL;VALUE=DURATION:PT1H
X-Robots-Tag:noindex
X-PUBLISHED-TTL:PT1H
BEGIN:VTIMEZONE
TZID:Australia/Perth
BEGIN:STANDARD
TZOFFSETFROM:+0800
TZOFFSETTO:+0800
TZNAME:AWST
DTSTART:20210101T000000
END:STANDARD
END:VTIMEZONE
BEGIN:VEVENT
DTSTART;TZID=Australia/Perth:20220724T150000
DTEND;TZID=Australia/Perth:20220724T170000
DTSTAMP:20260424T212814
CREATED:20220628T062215Z
LAST-MODIFIED:20220628T062215Z
UID:10004050-1658674800-1658682000@www.phpn.com.au
SUMMARY:Karratha 'Let's Reconnect' Networking Event
DESCRIPTION:Light food and drinks provided. Registrations are essential! \nThe Pilbara Health Professionals Network provides rural health professionals a central hub that offers\nsupport and greater opportunities to network\, upskill\, share information and collaborate in a local supportive community environment. \nWe would like to invite our members and their families to our ‘Let’s reconnect’ networking event at North West Brewing Co\, Karratha. \nThis event is FREE for members of the Pilbara Health Professionals Network – Click HERE to join as a member (membership is free). \nFor more information\, please email PHPN Regional Program Officer Alisha Small at\ncontact@phpn.com.au
URL:https://www.phpn.com.au/event/karratha-lets-reconnect-networking-event/
LOCATION:North West Brewing Co.\, 100 Mooligunn Road\, Karratha\, WA\, 6714\, Australia
CATEGORIES:Health
ATTACH;FMTTYPE=image/png:https://www.phpn.com.au/wp-content/uploads/2022/06/PHPN_Lets_reconnet-event-MU_900x300px.png
ORGANIZER;CN="Pilbara Health Professionals Network":MAILTO:alisha.small@phpn.com.au
END:VEVENT
END:VCALENDAR