BEGIN:VCALENDAR
VERSION:2.0
PRODID:-//Pilbara Health Professional Network - ECPv6.15.20//NONSGML v1.0//EN
CALSCALE:GREGORIAN
METHOD:PUBLISH
X-WR-CALNAME:Pilbara Health Professional Network
X-ORIGINAL-URL:https://www.phpn.com.au
X-WR-CALDESC:Events for Pilbara Health Professional Network
REFRESH-INTERVAL;VALUE=DURATION:PT1H
X-Robots-Tag:noindex
X-PUBLISHED-TTL:PT1H
BEGIN:VTIMEZONE
TZID:Australia/Perth
BEGIN:STANDARD
TZOFFSETFROM:+0800
TZOFFSETTO:+0800
TZNAME:AWST
DTSTART:20190101T000000
END:STANDARD
END:VTIMEZONE
BEGIN:VEVENT
DTSTART;TZID=Australia/Perth:20210418T120000
DTEND;TZID=Australia/Perth:20210418T160000
DTSTAMP:20260424T015218
CREATED:20210413T033041Z
LAST-MODIFIED:20210413T033041Z
UID:10004136-1618747200-1618761600@www.phpn.com.au
SUMMARY:Covechella Beach Party - Karratha
DESCRIPTION:As part of Youth Week 2021\, the City of Karratha presents – Beach Party @ Covechella! \nHeliSpirit rides\, magicians\, beach and water games\, food vans\, henna\, face painting and more!\nLook out for comps in the lead up for your chance to win a Beach Party VIP experience!\nThere will be bus services from all towns with the timetable to be released in the days leading up to the event. \nWhen: Sunday 18th April | 12pm – 4pm\nWhere: Hearson’s Cove\nAges: All ages\nEntry cost: Free! \nFor more information about other fun activities during Youth Week CLICK HERE
URL:https://www.phpn.com.au/event/covechella-beach-party-karratha/
LOCATION:Hearsons Cove\, Burrup\, WA\, 6714\, Australia
END:VEVENT
BEGIN:VEVENT
DTSTART;TZID=Australia/Perth:20201003T083000
DTEND;TZID=Australia/Perth:20201003T123000
DTSTAMP:20260424T015218
CREATED:20201001T021257Z
LAST-MODIFIED:20201001T021257Z
UID:10004029-1601713800-1601728200@www.phpn.com.au
SUMMARY:Yara Burrup Classic - Karratha
DESCRIPTION:Open Water Swim – Presented by Yara Pilbara\nSupported by the City of Karratha and Westpac \nDistances Available:\n200m\, 500m\, 1.25km\, 2.5km and 5km\nCheck in opens at 8:30am\nLate Registrations close at 9:00am\nFirst race starting at 9:40am \nTickets: http://www.openwaterswimming.com.au/event/ows-series-bonus-round-karratha
URL:https://www.phpn.com.au/event/yara-burrup-classic-karratha/
LOCATION:Hearsons Cove\, Burrup\, WA\, 6714\, Australia
END:VEVENT
END:VCALENDAR