BEGIN:VCALENDAR
VERSION:2.0
PRODID:-//Pilbara Health Professional Network - ECPv6.15.20//NONSGML v1.0//EN
CALSCALE:GREGORIAN
METHOD:PUBLISH
X-WR-CALNAME:Pilbara Health Professional Network
X-ORIGINAL-URL:https://www.phpn.com.au
X-WR-CALDESC:Events for Pilbara Health Professional Network
REFRESH-INTERVAL;VALUE=DURATION:PT1H
X-Robots-Tag:noindex
X-PUBLISHED-TTL:PT1H
BEGIN:VTIMEZONE
TZID:Australia/Perth
BEGIN:STANDARD
TZOFFSETFROM:+0800
TZOFFSETTO:+0800
TZNAME:AWST
DTSTART:20220101T000000
END:STANDARD
END:VTIMEZONE
BEGIN:VEVENT
DTSTART;TZID=Australia/Perth:20230525T080000
DTEND;TZID=Australia/Perth:20230525T100000
DTSTAMP:20260423T193343
CREATED:20230512T053353Z
LAST-MODIFIED:20230512T053353Z
UID:10004784-1685001600-1685008800@www.phpn.com.au
SUMMARY:National Reconciliation Week Virtual Breakfast | 24 May 2023 | Online
DESCRIPTION:NRW Virtual Breakfast\nReconciliation WA are inviting ONE MILLION Western Australians to our National Reconciliation Week Virtual Breakfast.\nDate: Thursday 25 May\nTime: 8am – 10am\nRegistration: Free\nVirtual Event \nJoin us for a morning of inspiration and reflection as we broadcast our NRW Virtual Breakfast to events across the State live from WA Museum Boola Bardip.\nWe’re thrilled to present our program for the 2023 NRW Virtual Breakfast\, featuring: \n\nKeynote presentation from Noongar\, Yamatji and Wongi man Ken Wyatt AM;\nKeynote presentation from reconciliation ally Craig Foster AM;\nAddress from Minister for Aboriginal Affairs Hon. Tony Buti MLA;\nA region recovering as we head to the Fitzroy Valley;\nLooking to the next generation in a special feature on Stratton Goodstart Early Learning\, and Community Arts Network WA Your Way project; And lots more!\n\nBroadcasted live from Boola Bardip WA Museum\, The NRW Virtual Breakfast is an opportunity for everyone whether you’re an individual\, family\, organisation\, community group or school to get inspired about how each of us can contribute to achieving reconciliation in Australia.\n\n\nDon’t miss out on this unique opportunity to be part of the National Reconciliation Week celebrations taking place all across the State. Everyone is invited!
URL:https://www.phpn.com.au/event/national-reconciliation-week-virtual-breakfast-24-may-2023-online/
LOCATION:Online Event\, WA\, Australia
CATEGORIES:Health
ATTACH;FMTTYPE=image/png:https://www.phpn.com.au/wp-content/uploads/2023/05/NRW.png
END:VEVENT
END:VCALENDAR