BEGIN:VCALENDAR
VERSION:2.0
PRODID:-//Pilbara Health Professional Network - ECPv6.15.20//NONSGML v1.0//EN
CALSCALE:GREGORIAN
METHOD:PUBLISH
X-ORIGINAL-URL:https://www.phpn.com.au
X-WR-CALDESC:Events for Pilbara Health Professional Network
REFRESH-INTERVAL;VALUE=DURATION:PT1H
X-Robots-Tag:noindex
X-PUBLISHED-TTL:PT1H
BEGIN:VTIMEZONE
TZID:Australia/Perth
BEGIN:STANDARD
TZOFFSETFROM:+0800
TZOFFSETTO:+0800
TZNAME:AWST
DTSTART:20230101T000000
END:STANDARD
END:VTIMEZONE
BEGIN:VEVENT
DTSTART;TZID=Australia/Perth:20240320T180000
DTEND;TZID=Australia/Perth:20240320T190000
DTSTAMP:20260424T202036
CREATED:20240222T081415Z
LAST-MODIFIED:20240222T081415Z
UID:10004906-1710957600-1710961200@www.phpn.com.au
SUMMARY:The role of surgery in the management of advanced NMSC in the era of effective systemic therapies | Online
DESCRIPTION:Description\n\n\nAustralian Society of Plastic Surgeons (ASPS) and Melanoma Institute Australia (MIA) invite you to join our webinar for clinicians with an interest in skin cancer. During the webinar\, our panel from different surgical disciplines will discuss the role of surgery and sequencing of treatment modalities in the management of advanced non-melanoma skin cancers (NMSC)/keratinocyte cancers through case discussions with audience participation.\n\nChair:  A/Prof Sydney Ch’ng\, MIA and Chris O’Brien Lifehouse Cancer Centre\n\nPanellists: \n• Prof Neil Gross\, MD Anderson Cancer Center\n• A/Prof Kerwin Shannon\, MIA and Chris O’Brien Lifehouse Cancer Centre\n• A/Prof Deshan Sebaratnam\, University of New South Wales\n• Dr Amy O’Connor\, Sunshine Coast University Hospital\n• Dr Andrew Foreman\, Royal Adelaide Hospital\n\nCost: Free\nThis webinar is an initiative of ASPS and MIA and is held in partnership with:\n• Australasian College of Dermatologists\n• Australian Society of Otolaryngology / Head and Neck Surgery\n• Australian and New Zealand Head & Neck Cancer Society\n• Skin Cancer College Australasia\n\n\nDate & Time: Wednesday 20 March 2024 | 6.00pm WST
URL:https://www.phpn.com.au/event/the-role-of-surgery-in-the-management-of-advanced-nmsc-in-the-era-of-effective-systemic-therapies-online/
LOCATION:Online Course
CATEGORIES:Health
END:VEVENT
END:VCALENDAR