BEGIN:VCALENDAR
VERSION:2.0
PRODID:-//Pilbara Health Professional Network - ECPv6.15.20//NONSGML v1.0//EN
CALSCALE:GREGORIAN
METHOD:PUBLISH
X-ORIGINAL-URL:https://www.phpn.com.au
X-WR-CALDESC:Events for Pilbara Health Professional Network
REFRESH-INTERVAL;VALUE=DURATION:PT1H
X-Robots-Tag:noindex
X-PUBLISHED-TTL:PT1H
BEGIN:VTIMEZONE
TZID:Australia/Perth
BEGIN:STANDARD
TZOFFSETFROM:+0800
TZOFFSETTO:+0800
TZNAME:AWST
DTSTART:20210101T000000
END:STANDARD
END:VTIMEZONE
BEGIN:VEVENT
DTSTART;TZID=Australia/Perth:20220719T110000
DTEND;TZID=Australia/Perth:20220719T120000
DTSTAMP:20260424T214853
CREATED:20220711T045914Z
LAST-MODIFIED:20220711T045914Z
UID:10004572-1658228400-1658232000@www.phpn.com.au
SUMMARY:The Mental Health Gender Gap: Getting women's mental health on the map.
DESCRIPTION:If you’re a woman\, you are 58% more likely to experience mental illness compared to men (2021\, ABS). This is a largely known fact. \nBut this year we uncovered that 1 in 2 women in Australia are currently experiencing mental illness in 2022! \nIt’s important that we raise the profile of women’s mental health and get the mental health gender gap on the map! The Liptember Foundation committed to undertaking a National Women’s Mental Health Research Study in 2022 with the focus purely on women and their specific mental health needs – and now the results are in. \nJoin us and an amazing panel of women as we unpack even more findings from this year’s Women’s Mental Health Research with an interactive Webinar panel discussion. \nWHAT: The Mental Health Gender Gap: Getting Women’s Mental Health on the Map.\nWHEN: 1pm Tues 19th July 2022 (1hr duration)\nWHO: Presented by the Liptember Foundation and Nielsen Media\nHOW: Register HERE to attend ⏰ \n🕵️‍ Be the first to learn about the current state of women’s mental health in Australia\n📚 Up to date 2022 data around the most concerning Mental Health issues currently affecting Australian women and specific minority groups.\n🚺 Key themes and insights around the issues affecting women by life stage\, the triggers and barriers to seeking help.\n💡 How do we bridge this gap and bring gender equity to mental health through funding\n💬 Including live Q&A with expert panellists \nHost: Monique Perry – Managing Director Media and Sport\, Pacific\, Nielsen Media \nGuest panellists: Kerry Turner – Manager – Participation and Partnerships\, Office of Sport | Lead – Her Sport Her Way | Former World Champion – Water Polo Jan Chisholm – Director of Liptember Foundation | CEO of Muscular Dystrophy Australia | Director of Inclusive Australia Adj.Professor Melissa Casey – Principal\, Agile Mental Health | Liptember Foundation MHAP Member | Mental Health Professional Cristina Collins – Lived experience advocate.
URL:https://www.phpn.com.au/event/the-mental-health-gender-gap-getting-womens-mental-health-on-the-map/
LOCATION:Online Webinar\, WA\, Australia
CATEGORIES:Health
END:VEVENT
END:VCALENDAR