BEGIN:VCALENDAR
VERSION:2.0
PRODID:-//Pilbara Health Professional Network - ECPv6.15.20//NONSGML v1.0//EN
CALSCALE:GREGORIAN
METHOD:PUBLISH
X-ORIGINAL-URL:https://www.phpn.com.au
X-WR-CALDESC:Events for Pilbara Health Professional Network
REFRESH-INTERVAL;VALUE=DURATION:PT1H
X-Robots-Tag:noindex
X-PUBLISHED-TTL:PT1H
BEGIN:VTIMEZONE
TZID:Australia/Perth
BEGIN:STANDARD
TZOFFSETFROM:+0800
TZOFFSETTO:+0800
TZNAME:AWST
DTSTART:20220101T000000
END:STANDARD
END:VTIMEZONE
BEGIN:VEVENT
DTSTART;TZID=Australia/Perth:20240925T173000
DTEND;TZID=Australia/Perth:20240925T183000
DTSTAMP:20260424T171243
CREATED:20240905T040248Z
LAST-MODIFIED:20240905T040331Z
UID:10005012-1727285400-1727289000@www.phpn.com.au
SUMMARY:Managing Chronic Kidney Disease alongside other chronic conditions | Online Webinar
DESCRIPTION:Chronic Kidney Disease rarely occurs in isolation. In a primary care setting\, it is very likely that individuals will have a Chronic Kidney Disease diagnosis that sits alongside diabetes and CVD. These three chronic conditions share many treatment goals and management strategies. Applying a ‘whole of person’ approach to a real (de-identified) case study of a Torres Strait Islander man\, our presenters Dr Tahira Scott (Nephrologist\, Cape York Kidney Care) and Dr Andrea Miller (General Practitioner\, Cape York Kidney Care)\, will journey through Chapter 3 of the Chronic Kidney Disease Management in Primary Care 5th handbook\, Managing Chronic Kidney Disease alongside other chronic conditions. \nRACGP/ACRRM EA hours – 1 \nREGISTER HERE. \nEnquiries:  primary.care@kidney.org.au
URL:https://www.phpn.com.au/event/managing-chronic-kidney-disease-alongside-other-chronic-conditions-online-webinar/
LOCATION:Online Webinar\, WA\, Australia
CATEGORIES:Health
END:VEVENT
BEGIN:VEVENT
DTSTART;TZID=Australia/Perth:20230921T173000
DTEND;TZID=Australia/Perth:20230921T173000
DTSTAMP:20260424T171243
CREATED:20230831T033748Z
LAST-MODIFIED:20230831T033748Z
UID:10004838-1695317400-1695317400@www.phpn.com.au
SUMMARY:Medications for Chronic Kidney Disease |
DESCRIPTION:Health professionals\, do you know how to adjust kidney cleared medications for an individual with CKD to minimize potential adverse effects? \nFind out how by joining Kidney Health Australia and Senior Pharmacist\, Carla Scuderi. Using a case study example of an individual with diabetes\, this activity outlines the steps required to confirm a CKD diagnosis as well as guidance on what medicines slow the progression of CKD while reducing the risk of CVD. Practical tips on how to utilise the eGFR to adjust medication dosing will also be discussed. \nRACGP/ACRRM CPD EA hours – 1 (pending approval) \nEnquiries: primary.care@kidney.org.au \nMake sure you have your CKD Management in Primary Care 4th edition handbook with you or the CKD Go! (handbook) app as we will be referring to the handbook during the webinar. \nDownload or purchase your copy here: CKD Management handbook | Kidney Health Australia \nRegister HERE.
URL:https://www.phpn.com.au/event/medications-for-chronic-kidney-disease/
LOCATION:Online Webinar\, WA\, Australia
CATEGORIES:Health
END:VEVENT
END:VCALENDAR