BEGIN:VCALENDAR
VERSION:2.0
PRODID:-//Pilbara Health Professional Network - ECPv6.15.20//NONSGML v1.0//EN
CALSCALE:GREGORIAN
METHOD:PUBLISH
X-ORIGINAL-URL:https://www.phpn.com.au
X-WR-CALDESC:Events for Pilbara Health Professional Network
REFRESH-INTERVAL;VALUE=DURATION:PT1H
X-Robots-Tag:noindex
X-PUBLISHED-TTL:PT1H
BEGIN:VTIMEZONE
TZID:Australia/Perth
BEGIN:STANDARD
TZOFFSETFROM:+0800
TZOFFSETTO:+0800
TZNAME:AWST
DTSTART:20200101T000000
END:STANDARD
END:VTIMEZONE
BEGIN:VEVENT
DTSTART;TZID=Australia/Perth:20210421T153000
DTEND;TZID=Australia/Perth:20210421T153000
DTSTAMP:20260424T031827
CREATED:20210406T030404Z
LAST-MODIFIED:20210406T030404Z
UID:10004134-1619019000-1619019000@www.phpn.com.au
SUMMARY:Cool Kids Anxiety Management Program - Wickham
DESCRIPTION:The Cool Kids Anxiety Management Program runs over 10 weeks with a focus on teaching children and their parents how to better manage a child’s anxiety. \nBased on Cognitive Behavioural Therapy (CBT)\, the program will run in  Wickham beginning Wednesday 21 April 2021.  \nLimited places available – eligibility criteria for the program applies. If you’d like to learn more email our team at info@karrathahealthcare.org.au \n*Program is suitable for those aged 11-12years \n 
URL:https://www.phpn.com.au/event/cool-kids-anxiety-management-program-wickham/
LOCATION:Wickham Community Hub\, Carse Street\, Wickham\, WA\, 6720\, Australia
CATEGORIES:Health
END:VEVENT
END:VCALENDAR