BEGIN:VCALENDAR
VERSION:2.0
PRODID:-//Pilbara Health Professional Network - ECPv6.15.20//NONSGML v1.0//EN
CALSCALE:GREGORIAN
METHOD:PUBLISH
X-WR-CALNAME:Pilbara Health Professional Network
X-ORIGINAL-URL:https://www.phpn.com.au
X-WR-CALDESC:Events for Pilbara Health Professional Network
REFRESH-INTERVAL;VALUE=DURATION:PT1H
X-Robots-Tag:noindex
X-PUBLISHED-TTL:PT1H
BEGIN:VTIMEZONE
TZID:Australia/Perth
BEGIN:STANDARD
TZOFFSETFROM:+0800
TZOFFSETTO:+0800
TZNAME:AWST
DTSTART:20230101T000000
END:STANDARD
END:VTIMEZONE
BEGIN:VEVENT
DTSTART;TZID=Australia/Perth:20250605T110000
DTEND;TZID=Australia/Perth:20250605T120000
DTSTAMP:20260420T123503
CREATED:20250529T140013Z
LAST-MODIFIED:20250529T140013Z
UID:10005516-1749121200-1749124800@www.phpn.com.au
SUMMARY:ECHO Session: Collaborate to Connect: Exploring New Frontiers of Co-design | Online
DESCRIPTION:Presenter: Michele Burnlar\, Consumers of Mental Health W.A \nMichele is a Project Officer on the Consumers of Mental Health WA Collaborate to Connect Project\, an Educator for the WA Recovery College\, and a volunteer with Transfolk of WA. With a background in Peer Support\, NDIS Psychosocial Recovery Coaching\, and Training & Development\, Michele brings curiosity and playfulness to her exploration of topics such as Co-design – making the complex accessible. \nTarget Audience: GPs\, Health Workers\, Nursing\, Allied Health Practitioners & other interested health care staff \nClinic Objectives:  \n\nA virtual network to share Mental Health care knowledge and experience\nAn opportunity to connect with your peers across Northern Australia\n\nWhen: Thursday 5th June 2025 | 11.00-12.00pm WA \nRegister HERE.
URL:https://www.phpn.com.au/event/echo-session-collaborate-to-connect-exploring-new-frontiers-of-co-design-online/
LOCATION:Online Event\, WA\, Australia
CATEGORIES:Health
END:VEVENT
BEGIN:VEVENT
DTSTART;TZID=Australia/Perth:20241205T110000
DTEND;TZID=Australia/Perth:20241205T120000
DTSTAMP:20260420T123504
CREATED:20241202T070606Z
LAST-MODIFIED:20241202T070606Z
UID:10005280-1733396400-1733400000@www.phpn.com.au
SUMMARY:Health eMinds ECHO: Child and Adolescent Eating Disorders | Online
DESCRIPTION:Presented by: Child and Youth Mental Health Service (CYMHS)\, Children’s Health Queensland. \nWhen: Thursday 5 December 2024 | 11.00am-12.00pm WA \nECHO programs offer free\, interactive online training that brings health professionals and primary care together to share knowledge\, ideas\, and experiences in a friendly\, supportive environment. These monthly sessions run for an hour and are open to all healthcare staff\, including nursing\, allied health\, GPs\, community health\, and Indigenous health workers. \nRegister HERE
URL:https://www.phpn.com.au/event/health-eminds-echo-child-and-adolescent-eating-disorders-online/
LOCATION:Online via Zoom\, WA\, Australia
CATEGORIES:Health
ATTACH;FMTTYPE=image/png:https://www.phpn.com.au/wp-content/uploads/2024/12/Health-eMind-ECHO-landscape-.png
END:VEVENT
BEGIN:VEVENT
DTSTART;TZID=Australia/Perth:20241205T110000
DTEND;TZID=Australia/Perth:20241205T120000
DTSTAMP:20260420T123504
CREATED:20240905T002650Z
LAST-MODIFIED:20240905T002650Z
UID:10005011-1733396400-1733400000@www.phpn.com.au
SUMMARY:Health eMinds ECHO session: Demystifying Self Harm | Online
DESCRIPTION:Presenter:\nLinda Leatherbarrow – Children’s Health Queensland \nTopics:\nDemystifying Self Harm \nWhat is Health eMinds ECHO?\n\na virtual network to share knowledge and experience related to mental health care and services\na series of free interactive\, case-based education sessions delivered online\, bringing together specialist and primary care services\na community of practice which helps decrease professional isolation and fosters a supportive network across northern Australia\nfree for any healthcare workers\, including allied\, community and mental health services (clinical and non-clinical).\n\nBenefits of Health eMinds ECHO\n\nA virtual network to share mental health care knowledge & experiences\nAn opportunity to connect with mental health specialists\nImprove local workforce capacity and delivery of high-quality mental health care\nAccess to mentoring\, by peers and subject matter experts\nReduce professional isolation and increase job satisfaction\nPromotes peer support and engagement between primary health services\n\nMonthly sessions include:\n\n10-minute didactic presentation by subject matter expert or panellist\nCase study discussion – participant to share a de-identified patient case\nQ&A on the presentation and case study – open to all participants\n\nREGISTER HERE. \nOnce registered you will receive an email with connection details. \nIf you’re unfamiliar with zoom or are joining from a new device\, feel free to perform a test call prior to the session using this link: https://zoom.us/test \nHaving trouble connecting? Please call our tech support: 07 3176 8086 \nFor further information or to contact the Health eMinds ECHO team. E-mail: healthemindsecho@uq.edu.au
URL:https://www.phpn.com.au/event/health-eminds-echo-session-demystifying-self-harm-online/
LOCATION:Online via Zoom\, WA\, Australia
CATEGORIES:Health
END:VEVENT
BEGIN:VEVENT
DTSTART;TZID=Australia/Perth:20241003T110000
DTEND;TZID=Australia/Perth:20241003T120000
DTSTAMP:20260420T123504
CREATED:20240905T002403Z
LAST-MODIFIED:20240905T002403Z
UID:10005009-1727953200-1727956800@www.phpn.com.au
SUMMARY:Health eMinds ECHO session: Alternate therapies & programs - Alive & Kicking Goals | Online
DESCRIPTION:Presenter:\nJoel Ryman\, Team Leader Youth Services\, MOSAC\, Western Australia \nTopics:\nAlternate therapies & programs – Alive & Kicking Goals\nTogether We Ride – Lifecycle Youth Connect \nWhat is Health eMinds ECHO?\n\na virtual network to share knowledge and experience related to mental health care and services\na series of free interactive\, case-based education sessions delivered online\, bringing together specialist and primary care services\na community of practice which helps decrease professional isolation and fosters a supportive network across northern Australia\nfree for any healthcare workers\, including allied\, community and mental health services (clinical and non-clinical).\n\nBenefits of Health eMinds ECHO\n\nA virtual network to share mental health care knowledge & experiences\nAn opportunity to connect with mental health specialists\nImprove local workforce capacity and delivery of high-quality mental health care\nAccess to mentoring\, by peers and subject matter experts\nReduce professional isolation and increase job satisfaction\nPromotes peer support and engagement between primary health services\n\nMonthly sessions include:\n\n10-minute didactic presentation by subject matter expert or panellist\nCase study discussion – participant to share a de-identified patient case\nQ&A on the presentation and case study – open to all participants\n\nREGISTER HERE. \nOnce registered you will receive an email with connection details. \nIf you’re unfamiliar with zoom or are joining from a new device\, feel free to perform a test call prior to the session using this link: https://zoom.us/test \nHaving trouble connecting? Please call our tech support: 07 3176 8086 \nFor further information or to contact the Health eMinds ECHO team. E-mail: healthemindsecho@uq.edu.au
URL:https://www.phpn.com.au/event/health-eminds-echo-session-alternate-therapies-programs-alive-kicking-goals-online/
LOCATION:Online via Zoom\, WA\, Australia
CATEGORIES:Health
END:VEVENT
BEGIN:VEVENT
DTSTART;TZID=Australia/Perth:20240905T110000
DTEND;TZID=Australia/Perth:20240905T120000
DTSTAMP:20260420T123504
CREATED:20240904T235900Z
LAST-MODIFIED:20240904T235900Z
UID:10005008-1725534000-1725537600@www.phpn.com.au
SUMMARY:Health eMinds ECHO session: Alternate therapies & programs - Yawardani Jan-ga - equine assisted learning for Aboriginal young people | Online
DESCRIPTION:Our guest presenter is Prof Juli Coffin\, Yawardani Jan-ga\, Broome W.A. speaking about Yawardani Jan-ga – equine assisted learning for Aboriginal young people.  Followed by a patient case for discussion by the group. \nPresenter profile: Professor Coffin is a proud Aboriginal woman\, with traditional ties to her grandparents Nyangumarta country in the Pilbara region. A mother of three and multiple Australian representative at water polo\, with a passion for advocacy and the betterment of outcomes for Aboriginal young people and communities. She is recognised as a prominent Aboriginal researcher\, with expertise in cultural security\, education and research across a diverse range of settings including chronic diseases\, community development\, health promotion and Equine Psychotherapy. \nEducational attainments include the Vice Chancellors medal for research excellence at the culmination of Coffins PhD. Professor Coffin has been awarded numerous competitive grants spanning her career with the most recently awarded in 2020 included from Heathway and the National Health and Medical Research Council (NHMRC). Currently at Murdoch University\, Ngangk Yira Institute for Change\, where she holds the position of Ellison Professor and Head\, Social & Emotional Wellbeing of Aboriginal Young People\, Professor Coffin is strengthening evidence of culturally secure social and emotional well-being offerings in the Kimberley and upscaling with impact. \nThe Yawardani Jan-ga Equine Assisted Learning research program\, designed by Professor Coffin\, is the first of its kind in the Kimberley\, in Australia and the world. Recently\, Professor Coffin has been recognised as a recipient of the prestigious Ministers Award and Yawardani Jan-ga program receiving the Youth Focus for Change Award in 2021 WA Mental Health Awards. Since the programs inception it has engaged over 2000 Aboriginal young people and over 50 stakeholders and community organisations. These numbers are growing as is the evidence base for our future of SEWB programs that work. \nREGISTER HERE.  \nOnce registered you will receive an email with connection details. \nIf you’re unfamiliar with zoom or are joining from a new device\, feel free to perform a test call prior to the session using this link: https://zoom.us/test \nHaving trouble connecting? Please call our tech support: 07 3176 8086
URL:https://www.phpn.com.au/event/health-eminds-echo-session-alternate-therapies-programs-yawardani-jan-ga-equine-assisted-learning-for-aboriginal-young-people-online/
LOCATION:Online via Zoom\, WA\, Australia
CATEGORIES:Health
ATTACH;FMTTYPE=image/jpeg:https://www.phpn.com.au/wp-content/uploads/2024/09/Prof-Juli-Coffin.jpg
END:VEVENT
END:VCALENDAR