BEGIN:VCALENDAR
VERSION:2.0
PRODID:-//Pilbara Health Professional Network - ECPv6.15.20//NONSGML v1.0//EN
CALSCALE:GREGORIAN
METHOD:PUBLISH
X-WR-CALNAME:Pilbara Health Professional Network
X-ORIGINAL-URL:https://www.phpn.com.au
X-WR-CALDESC:Events for Pilbara Health Professional Network
REFRESH-INTERVAL;VALUE=DURATION:PT1H
X-Robots-Tag:noindex
X-PUBLISHED-TTL:PT1H
BEGIN:VTIMEZONE
TZID:Australia/Perth
BEGIN:STANDARD
TZOFFSETFROM:+0800
TZOFFSETTO:+0800
TZNAME:AWST
DTSTART:20230101T000000
END:STANDARD
END:VTIMEZONE
BEGIN:VEVENT
DTSTART;TZID=Australia/Perth:20240311T090000
DTEND;TZID=Australia/Perth:20240311T160000
DTSTAMP:20260425T035720
CREATED:20231130T050701Z
LAST-MODIFIED:20231130T050959Z
UID:10004879-1710147600-1710172800@www.phpn.com.au
SUMMARY:EarTrain program | Karratha
DESCRIPTION:About the EarTrain program \nEarTrain is a fully funded online training program for primary health care professionals to identify and manage otitis media and other hearing conditions in Aboriginal and Torres Strait Islander communities. \nThe program is delivered across Australia by TAFE NSW and is funded by the Australian Government. EarTrain is a Closing the Gap initiative available until 30 June 2024. \nPractical Skills Workshop \nEarTrain and the Aboriginal Health Council of Western Australia (AHCWA) are running a series of 1-day workshops to provide practical skills in: \n\nTympanometry (under 6 months of age)\nScreening Otoacoustic Emissions\nReferral Pathways\n\nYou will gain practical experience and confidence in carrying out these skills under the guidance of experienced audiologists\, with ongoing support after you’ve completed the workshop. This workshop is ideal for those requiring an introduction or refresh in these practical skills. Participants who attend this workshop and complete logbooks will receive a Certificate of Participation. \nDate: 11 March 2024\nTime: 9.00am-4.00pm \nRegister to EarTrain to access the online learning here  https://www.tafensw.edu.au/eartrain \nWorkshop registration\, click here  https://tinyurl.com/hnfdn4tp \n\nThe EarTrain team will send a confirmation email\, confirming venue\, date and time.
URL:https://www.phpn.com.au/event/eartrain-program-karratha/
CATEGORIES:Health
ATTACH;FMTTYPE=image/png:https://www.phpn.com.au/wp-content/uploads/2023/11/Ear-train.png
ORGANIZER;CN="EarTrain":MAILTO:eartrain@tafensw.edu.au
END:VEVENT
BEGIN:VEVENT
DTSTART;TZID=Australia/Perth:20240311T090000
DTEND;TZID=Australia/Perth:20240311T160000
DTSTAMP:20260425T035720
CREATED:20231123T125959Z
LAST-MODIFIED:20231123T125959Z
UID:10004878-1710147600-1710172800@www.phpn.com.au
SUMMARY:EarTrain practical skills workshop | Karratha
DESCRIPTION:About the EarTrain program\nEarTrain is a fully funded online training program for primary health care professionals to identify and manage otitis media and other hearing conditions in Aboriginal and Torres Strait Islander communities. \nThe program is delivered across Australia by TAFE NSW and is funded by the Australian Government. EarTrain is a Closing the Gap initiative available until 30 June 2024. \nPractical Skills Workshop\nEarTrain and the Aboriginal Health Council of Western Australia (AHCWA) are running a series of 1-day workshops to provide practical skills in: \n\nTympanometry (under 6 months of age)\nScreening otoacoustic emissions\nReferral pathways\n\nYou will gain practical experience and confidence in carrying out these skills under the guidance of experienced audiologists\, with ongoing support after you’ve completed the workshop. This workshop is ideal for those requiring an introduction or refresh in these practical skills. Participants who attend this workshop and complete logbooks will receive a Certificate of Participation. \nTo register: \n\nRegister to EarTrain to access the online learning\nRegister HERE for the workshop\nThe EarTrain team will send a confirmation email\, confirming venue\, date and time
URL:https://www.phpn.com.au/event/eartrain-practical-skills-workshop-karratha/
CATEGORIES:Health
ATTACH;FMTTYPE=image/png:https://www.phpn.com.au/wp-content/uploads/2023/11/Ear-train.png
ORGANIZER;CN="EarTrain":MAILTO:eartrain@tafensw.edu.au
END:VEVENT
END:VCALENDAR