BEGIN:VCALENDAR
VERSION:2.0
PRODID:-//Pilbara Health Professional Network - ECPv6.15.20//NONSGML v1.0//EN
CALSCALE:GREGORIAN
METHOD:PUBLISH
X-WR-CALNAME:Pilbara Health Professional Network
X-ORIGINAL-URL:https://www.phpn.com.au
X-WR-CALDESC:Events for Pilbara Health Professional Network
REFRESH-INTERVAL;VALUE=DURATION:PT1H
X-Robots-Tag:noindex
X-PUBLISHED-TTL:PT1H
BEGIN:VTIMEZONE
TZID:Australia/Perth
BEGIN:STANDARD
TZOFFSETFROM:+0800
TZOFFSETTO:+0800
TZNAME:AWST
DTSTART:20220101T000000
END:STANDARD
END:VTIMEZONE
BEGIN:VEVENT
DTSTART;TZID=Australia/Perth:20250213T090000
DTEND;TZID=Australia/Perth:20250213T160000
DTSTAMP:20260424T031045
CREATED:20250208T044743Z
LAST-MODIFIED:20250208T044743Z
UID:10005422-1739437200-1739462400@www.phpn.com.au
SUMMARY:CRARMF Identification and Screening | Online
DESCRIPTION:This workshop is suitable for any professional who may identify family violence as occurring. You may engage with people on a one-off\, episodic\, or ongoing basis and you are in a position to identify or screen for family violence. This training focuses on working with victim-survivors. \nLearning outcomes \n\nUnderstanding your role in the service system response\nGain a deeper understanding of the identification of risk\nStrengthen knowledge of visible and less visible signs of trauma\nBuild confidence in utilising the CRARMF screening tool\nAwareness of referral pathways and brief safety planning\n\nTrainer/Facilitators \nDART Institute CEO\, Jolene Ellat  \nTraining Resources \nWorkbooks and resources will be sent 48 hours prior to the training date with links via Humanitix. \nQuestions about the training \nPlease email info@dartinstitute.org.au \nDate: Thursday 13 February\nTime: 9.00am-4.00pm\nLocation: Online\nCost: $299 + GST \nRegister now
URL:https://www.phpn.com.au/event/crarmf-identification-and-screening-online/
LOCATION:Online Course
CATEGORIES:Health
END:VEVENT
BEGIN:VEVENT
DTSTART;TZID=Australia/Perth:20240613T090000
DTEND;TZID=Australia/Perth:20240614T160000
DTSTAMP:20260424T031045
CREATED:20240508T155905Z
LAST-MODIFIED:20240508T155905Z
UID:10004954-1718269200-1718380800@www.phpn.com.au
SUMMARY:Interrupting Male Violence with Men who use Domestic and Family Violence | Online
DESCRIPTION:Over two immersive days\, join DART Institute Australia to unpack accountability in men’s work and build skills to disrupt patterns of behaviour in men’s engagement work. \nThis micro skills series is designed for individuals working with men who are using violence or suspect men who may be using violence. \nDate: Thursday 13 – Friday 14 June 2024\nTime: 9:00am – 4:00pm\nCost: $399\nLocation: Online event. Teams access will be sent 48 hours prior to the first session in the series. \nRead more and register
URL:https://www.phpn.com.au/event/interrupting-male-violence-with-men-who-use-domestic-and-family-violence-online/
LOCATION:Online Course
CATEGORIES:Health
END:VEVENT
BEGIN:VEVENT
DTSTART;TZID=Australia/Perth:20231109T090000
DTEND;TZID=Australia/Perth:20231109T160000
DTSTAMP:20260424T031045
CREATED:20231010T205037Z
LAST-MODIFIED:20231010T205037Z
UID:10004852-1699520400-1699545600@www.phpn.com.au
SUMMARY:One-Day Workshop: FDV-informed Documentation and Language | Online
DESCRIPTION:When working with survivors (adult and child) or users of violence\, it is essential to use language that reflects a survivor\, strength-based approach\, a perpetrator-facing\, and a perpetrator-driven risk approach. This ensures behaviour patterns are prominent and visible\, survivor resistance and strengths are at the forefront of responses and\, service responses are better able to assess risk and imminency to risk. Accordingly\, in domestic and family violence work\, our language should focus on perpetrator accountability and a behaviour pattern-based approach. This workshop has been developed to align with the internally accredited Safe and Together model. \nThis one-day workshop will provide further skills and knowledge of best practice when capturing documentation in family domestic and sexual abuse matters. \nDate: Thursday 9 November 2023\nTime: 9:00am – 4:00pm\nCost: $149-$249\nLocation: Online – a link and further details will be emailed one day prior to the event \nRegister now
URL:https://www.phpn.com.au/event/one-day-workshop-fdv-informed-documentation-and-language-online/
LOCATION:Online Webinar\, WA\, Australia
CATEGORIES:Health
END:VEVENT
BEGIN:VEVENT
DTSTART;TZID=Australia/Perth:20230622T090000
DTEND;TZID=Australia/Perth:20230622T130000
DTSTAMP:20260424T031045
CREATED:20230512T053726Z
LAST-MODIFIED:20230512T053726Z
UID:10004785-1687424400-1687438800@www.phpn.com.au
SUMMARY:Masterclass Webinar: Coercive Control\, Stalking and Harassment | 22 June 2023 | Online webinar
DESCRIPTION:Delivered by Jolene Ellat and Dr Lorraine Sheridan\, a recognised global expert on stalking and harassment\nSpecial discounted rate of $99.00 – normally priced at $120.00\nOverview\nCoercive control can be described as “a pattern of domination that includes tactics to isolate\, degrade\, exploit and control” victims. Patterns of controlling behaviour\, such as stalking and harassment and psychological abuse\, are known predictors of serious violence and homicide. \nWhile Australia is in deep discussions on criminalising coercive control\, the responses from practitioners to victims and men who use violence are critical in providing interruption strategies to reduce homicides and other harms across Australia and New Zealand. \nThe Coercive Control\, Stalking and Harassment Masterclass will give you a deeper insight into the insidious presentations of FDV\, Coercive Control\, and Stalking and Harassment\, and how these problems can co-occur. The Masterclass will also explore the impacts on victims and survivors and service system responses. We will provide you with relevant risk screening questions that assess for coercive control\, physical harm\, imminent risk and valuable methods to help identify cases of stalking and harassment \nDelivered virtually over four hours\, with micro-breaks\, this Masterclass will also engage you to consider the fundamentals of stalking\, risk assessment and risk management\, perpetrator typologies to consider when engaging perpetrators or survivors\, stages to homicide and interruption strategies\, and how to provide optimal support. \nThis Masterclass will enable an understanding of the complexities of domestic abuse and the tools required to make informed decisions as a practitioner that validate target experiences\, enhance their safety and reduce risk. \nWhat will you gain from attending this Masterclass? \n\nA framework of forms of abuse and perpetrator subtypes to help identify abusive dynamics and risk\, and to help tailor responses\nIdentification and understanding of stages to homicide \nA brief psychology of how a perpetrator of stalking is created\nUnderstanding a perpetrator’s intentions\nIdentifying professional collusion in our own practices\nAbility to identify coercive control\, stalking and harassment and look at risk differently \nOpportunity to apply theory to practice \n\nWho should attend?\nAnyone working in the community\, government\, police and justice sectors with responsibility for: \n\nFamily/Domestic Violence\nWomen’s Services\nMen’s Behaviour Change\nChildren/Child Protection\nViolence Prevention\nMental Health\nDrug and Alcohol\n\nWhat can I expect from this virtual Masterclass? \nEven though it’s a webinar\, you won’t miss out on any of the benefits of a face-to-face event! Here’s what you can expect. \n\nHighly interactive learning – designed to give you the same interactive and hands-on learning experiences as in-person training. Get involved through small group breakout sessions\, Q&A\, online interactive tools\, quizzes and activities\nNetworking opportunities – collaborate and problem-solve with a network of like-minded practitioners and professionals working in the context of family and domestic violence across Australia and NZ\nResources: participants will be provided with a valuable method to help identify cases of stalking and harassment\nCertificate – Receive a certificate of completion\n\nCheck out our speaker bios here: \nJolene Ellat: https://www.dartgroupaustralia… \nDr Lorraine Sheridan: https://www.dartgroupaustralia… \n\nFor all training questions\, please email info@dartgroupaustralia.com.au 
URL:https://www.phpn.com.au/event/masterclass-webinar-coercive-control-stalking-and-harassment-22-june-2023-online-webinar/
LOCATION:Online Webinar\, WA\, Australia
CATEGORIES:Health
ATTACH;FMTTYPE=image/png:https://www.phpn.com.au/wp-content/uploads/2023/05/DART-1.png
END:VEVENT
END:VCALENDAR