BEGIN:VCALENDAR
VERSION:2.0
PRODID:-//Pilbara Health Professional Network - ECPv6.15.20//NONSGML v1.0//EN
CALSCALE:GREGORIAN
METHOD:PUBLISH
X-WR-CALNAME:Pilbara Health Professional Network
X-ORIGINAL-URL:https://www.phpn.com.au
X-WR-CALDESC:Events for Pilbara Health Professional Network
REFRESH-INTERVAL;VALUE=DURATION:PT1H
X-Robots-Tag:noindex
X-PUBLISHED-TTL:PT1H
BEGIN:VTIMEZONE
TZID:Australia/Perth
BEGIN:STANDARD
TZOFFSETFROM:+0800
TZOFFSETTO:+0800
TZNAME:AWST
DTSTART:20250101T000000
END:STANDARD
END:VTIMEZONE
BEGIN:VEVENT
DTSTART;TZID=Australia/Perth:20260505T173000
DTEND;TZID=Australia/Perth:20260505T193000
DTSTAMP:20260422T181526
CREATED:20260420T040738Z
LAST-MODIFIED:20260420T040738Z
UID:10005566-1778002200-1778009400@www.phpn.com.au
SUMMARY:PHPN Social Sundowner Event | Karratha
DESCRIPTION:We’d love to invite Pilbara health professionals to join us for a relaxed social sundowner at the Karratha International Hotel. \nEnjoy casual networking\, pizzas by the pool\, and a great opportunity to connect with fellow local health professionals—including our junior doctors visiting as part of the Pilbara Junior Doctor Immersion. \nIt’s a wonderful chance to catch up\, meet new faces\, and strengthen our local health community in a relaxed and friendly setting. \nThis is a FREE networking event for Pilbara health professionals – we hope to see you there! \nTuesday 5 May 2026 | 5.30pm-7.30pm | Karratha\nREGISTER HERE
URL:https://www.phpn.com.au/event/phpn-social-sundowner-event-karratha/
LOCATION:Karratha International Hotel\, Corner of Hillview and Millstream Roads\, Karratha\, WA\, 6714\, Australia
CATEGORIES:Health
ATTACH;FMTTYPE=image/png:https://www.phpn.com.au/wp-content/uploads/2026/04/PHPN-Karratha-Social-Sundowner-050526-FB-Insta-1080x1350px.png
ORGANIZER;CN="Pilbara Health Professionals Network":MAILTO:alisha.small@phpn.com.au
END:VEVENT
BEGIN:VEVENT
DTSTART;TZID=Australia/Perth:20260506T173000
DTEND;TZID=Australia/Perth:20260506T193000
DTSTAMP:20260422T181526
CREATED:20260420T042539Z
LAST-MODIFIED:20260420T042539Z
UID:10005567-1778088600-1778095800@www.phpn.com.au
SUMMARY:PHPN Social Sundowner | Port Hedland
DESCRIPTION:Our Hedland health professionals are warmly invited to join us for a casual sundowner at Ray’s\, Port Hedland Hotel. \nThis is a great opportunity to unwind\, connect with fellow local health professionals\, and welcome the junior doctors visiting as part of the Pilbara Junior Doctor Immersion. \nWhether you’re catching up with familiar faces or meeting new colleagues\, it’s all about building connections in a relaxed and friendly setting. \nThis is a FREE networking event for Pilbara health professionals – we hope to see you there! \nWednesday 6 May 2026 | 5.30pm-7.30pm | Hedland \nREGISTER HERE
URL:https://www.phpn.com.au/event/phpn-social-sundowner-port-hedland/
LOCATION:Rays – Port Hedland Hotel\, Corner Lukis and McGregor Streets\, Port Hedland\, WA\, 6712\, Australia
CATEGORIES:Health
ATTACH;FMTTYPE=image/png:https://www.phpn.com.au/wp-content/uploads/2026/04/PHPN-Hedland-Social-Sundowner-050526-Images-v1-FB-Insta-1080x1350px.png
ORGANIZER;CN="Pilbara Health Professionals Network":MAILTO:alisha.small@phpn.com.au
END:VEVENT
END:VCALENDAR